BEGIN:VCALENDAR
VERSION:2.0
PRODID:-//The Sunflower State Radio Network - ECPv6.15.20//NONSGML v1.0//EN
CALSCALE:GREGORIAN
METHOD:PUBLISH
X-ORIGINAL-URL:https://sunflowerstateradio.com
X-WR-CALDESC:Events for The Sunflower State Radio Network
REFRESH-INTERVAL;VALUE=DURATION:PT1H
X-Robots-Tag:noindex
X-PUBLISHED-TTL:PT1H
BEGIN:VTIMEZONE
TZID:America/Chicago
BEGIN:DAYLIGHT
TZOFFSETFROM:-0600
TZOFFSETTO:-0500
TZNAME:CDT
DTSTART:20250309T080000
END:DAYLIGHT
BEGIN:STANDARD
TZOFFSETFROM:-0500
TZOFFSETTO:-0600
TZNAME:CST
DTSTART:20251102T070000
END:STANDARD
BEGIN:DAYLIGHT
TZOFFSETFROM:-0600
TZOFFSETTO:-0500
TZNAME:CDT
DTSTART:20260308T080000
END:DAYLIGHT
BEGIN:STANDARD
TZOFFSETFROM:-0500
TZOFFSETTO:-0600
TZNAME:CST
DTSTART:20261101T070000
END:STANDARD
BEGIN:DAYLIGHT
TZOFFSETFROM:-0600
TZOFFSETTO:-0500
TZNAME:CDT
DTSTART:20270314T080000
END:DAYLIGHT
BEGIN:STANDARD
TZOFFSETFROM:-0500
TZOFFSETTO:-0600
TZNAME:CST
DTSTART:20271107T070000
END:STANDARD
END:VTIMEZONE
BEGIN:VEVENT
DTSTART;VALUE=DATE:20261024
DTEND;VALUE=DATE:20261025
DTSTAMP:20260425T134426
CREATED:20260311T144653Z
LAST-MODIFIED:20260311T144927Z
UID:10058891-1792800000-1792886399@sunflowerstateradio.com
SUMMARY:CFB: Kansas State at Arizona State [Big 12] [Restricted Stream/App Access]
DESCRIPTION:Catch all the Kansas State Wildcat action live across the state with Sunflower State Radio! Tune in to Classic Country 1570 AM and 94.1 FM KNDY for coverage in Northeast Kansas\, or catch the broadcast on Classic Hits Q-106.7 KQNK in Northwest Kansas. Fans can also listen on the go by downloading the KQNK and KNDY mobile apps. Please note that broadcast dates and times are subject to change\, and due to contractual obligations with Learfield Sports\, all online and app streaming is strictly limited to a 75-mile radius around each broadcast station city of license.
URL:https://sunflowerstateradio.com/ssrevent/cfb-kansas-state-at-arizona-state-big-12-restricted-stream-app-access/
LOCATION:Mountain America Stadium\, 500 East Veterans Way\, Tempe\, AZ\, 85287\, United States
CATEGORIES:106.7 KQNK-FM,1570 KNDY-AM
ATTACH;FMTTYPE=image/png:https://sunflowerstateradio.com/wp-content/uploads/2025/10/Kansas-State-Football-1.png
ORGANIZER;CN="Sunflower State Radio":MAILTO:studio@kndyradio.com
END:VEVENT
END:VCALENDAR